0.2
0
0
-0.2
705590.1
5119769.9
