0.2
0
0
-0.2
705690.1
5116989.9
