0.2
0
0
-0.2
686810.1
5102469.9
