0.2
0
0
-0.2
686900.1
5099689.9
