0.2
0
0
-0.2
680200.1
5107829.9
