0.2
0
0
-0.2
680120.1
5110609.9
