0.2
0
0
-0.2
696040.1
5116669.9
