0.2
0
0
-0.2
686390.1
5116359.9
