0.2
0
0
-0.2
689610.1
5116459.9
