0.2
0
0
-0.2
689520.1
5119239.9
