0.2
0
0
-0.2
679880.1
5118939.9
