0.2
0
0
-0.2
667470.1
5101900.1
