0.2
0
0
-0.2
670700.1
5102000.1
