0.2
0
0
-0.2
664320.1
5099040.1
