0.2
0
0
-0.2
654650.1
5098780.1
