0.2
0
0
-0.2
676980.1
5107740.1
