0.2
0
0
-0.2
667320.1
5107460.1
