0.2
0
0
-0.2
664170.1
5104590.1
