0.2
0
0
-0.2
657730.1
5104420.1
