0.2
0
0
-0.2
657660.1
5107200.1
