0.2
0
0
-0.2
654370.1
5109890.1
