0.2
0
0
-0.2
657590.1
5109980.1
