0.2
0
0
-0.2
676740.1
5116070.1
