0.2
0
0
-0.2
676660.1
5118850.1
