0.2
0
0
-0.2
644970.1
5098539.9
