0.2
0
0
-0.2
638520.1
5098389.9
