0.2
0
0
-0.2
648060.1
5104179.9
