0.2
0
0
-0.2
641430.1
5112349.9
