0.2
0
0
-0.2
638210.1
5112279.9
