0.2
0
0
-0.2
647730.1
5118059.9
