0.2
0
0
-0.2
644520.1
5117989.9
