0.200000
0.000000
0.000000
-0.200000
625570.100000
5100879.900000
