0.200000
0.000000
0.000000
-0.200000
615900.100000
5100689.900000
