0.2
0
0
-0.2
615790.1
5106249.9
