0.2
0
0
-0.2
615740.1
5109019.9
