0.200000
0.000000
0.000000
-0.200000
622010.100000
5117479.900000
