0.200000
0.000000
0.000000
-0.200000
622070.100000
5114709.900000
