0.200000
0.000000
0.000000
-0.200000
618850.100000
5114639.900000
