0.2
0
0
-0.2
618800.1
5117419.9
