0.2
0
0
-0.2
727990.1
5123349.9
