0.2
0
0
-0.2
705410.1
5125319.9
