0.2
0
0
-0.2
721360.1
5128669.9
