0.2
0
0
-0.2
705220.1
5130879.9
