0.2
0
0
-0.2
705310.1
5128099.9
