0.2
0
0
-0.2
717860.1
5136879.9
