0.2
0
0
-0.2
714750.1
5133989.9
