0.2
0
0
-0.2
708240.1
5136539.9
