0.2
0
0
-0.2
714550.1
5139549.9
