0.2
0
0
-0.2
702290.1
5122429.9
