0.2
0
0
-0.2
695770.1
5124999.9
